BEGIN:VCALENDAR
VERSION:2.0
PRODID:-//The Brick Community Stadium - ECPv6.11.2.1//NONSGML v1.0//EN
CALSCALE:GREGORIAN
METHOD:PUBLISH
X-ORIGINAL-URL:https://www.thebrickcommunitystadium.com
X-WR-CALDESC:Events for The Brick Community Stadium
REFRESH-INTERVAL;VALUE=DURATION:PT1H
X-Robots-Tag:noindex
X-PUBLISHED-TTL:PT1H
BEGIN:VTIMEZONE
TZID:Europe/Paris
BEGIN:DAYLIGHT
TZOFFSETFROM:+0100
TZOFFSETTO:+0200
TZNAME:CEST
DTSTART:20230326T010000
END:DAYLIGHT
BEGIN:STANDARD
TZOFFSETFROM:+0200
TZOFFSETTO:+0100
TZNAME:CET
DTSTART:20231029T010000
END:STANDARD
END:VTIMEZONE
BEGIN:VEVENT
DTSTART;TZID=Europe/Paris:20230617T190000
DTEND;TZID=Europe/Paris:20230618T010000
DTSTAMP:20260417T220104
CREATED:20230217T100120Z
LAST-MODIFIED:20230405T125036Z
UID:32835-1687028400-1687050000@www.thebrickcommunitystadium.com
SUMMARY:80s & 90s Party!
DESCRIPTION:Join us for a night of nostalgia and throwback tunes at the DW Stadium on Saturday 17th June! The ultimate battle between the 80s and the 90s will come to life\, featuring non-stop music\, dancing and delicious food. \nWith a ticket price of just £5\, enjoy an unforgettable night of DJ entertainment\, playing all the classic hits from both decades. From Madonna and Michael Jackson to Spice Girls and Nirvana\, we’ve got you covered. \nWhether you were born in the 80s\, 90s or just love the music from both decades\, this party is for you. So\, grab your friends\, dress up in your best retro outfit and get ready for an epic night of fun and dancing. \nDon’t miss out on this opportunity to relive the best music from the 80s and 90s. Book your tickets now and get ready to party! \nEvent starts at 7pm. Book NOW.
URL:https://www.thebrickcommunitystadium.com/event/80s-90s-party/
LOCATION:DW Stadium
END:VEVENT
BEGIN:VEVENT
DTSTART;TZID=Europe/Paris:20230618T100000
DTEND;TZID=Europe/Paris:20230618T120000
DTSTAMP:20260417T220104
CREATED:20230508T045733Z
LAST-MODIFIED:20230508T050110Z
UID:32988-1687082400-1687089600@www.thebrickcommunitystadium.com
SUMMARY:Father's Day Breakfast
DESCRIPTION:Father’s Day Breakfast in Whelan’s Sports Bar\nDue to the success of last year’s sell out events across the stadium\, we’ve opened up a new offering for 2023. \nTreat Dad to the full works this Father’s Day in Whelan’s. \nPackage includes full English breakfast and photo opportunities with Latics Trophies! \nWhether Dad’s simply Latics mad or you’re looking for a great way to start a jam-packed day with Dad. \nDiscounted price available for children.
URL:https://www.thebrickcommunitystadium.com/event/fathers-day-breakfast/
LOCATION:Whelan’s Sports Bar\, DW Stadium\, Wigan\, WN5 0UH\, United Kingdom
END:VEVENT
BEGIN:VEVENT
DTSTART;TZID=Europe/Paris:20230621T090000
DTEND;TZID=Europe/Paris:20230621T170000
DTSTAMP:20260417T220104
CREATED:20230517T112503Z
LAST-MODIFIED:20230517T112503Z
UID:33003-1687338000-1687366800@www.thebrickcommunitystadium.com
SUMMARY:State of Origin - Game 2
DESCRIPTION:Join us for the State of Origin Series 2023 in Whelan’s Sports Bar!\n\n\nWe’ll be open from 9am for each event with live coverage across the screens from 10am.\n\n\nTickets include Full English Breakfast \n\nGuest speakers for 21st June and 12th July to be confirmed!
URL:https://www.thebrickcommunitystadium.com/event/state-of-origin-game-2/
LOCATION:Whelan’s Sports Bar\, DW Stadium\, Wigan\, WN5 0UH\, United Kingdom
END:VEVENT
END:VCALENDAR