BEGIN:VCALENDAR
VERSION:2.0
PRODID:-//The Brick Community Stadium - ECPv6.11.2.1//NONSGML v1.0//EN
CALSCALE:GREGORIAN
METHOD:PUBLISH
X-WR-CALNAME:The Brick Community Stadium
X-ORIGINAL-URL:https://www.thebrickcommunitystadium.com
X-WR-CALDESC:Events for The Brick Community Stadium
REFRESH-INTERVAL;VALUE=DURATION:PT1H
X-Robots-Tag:noindex
X-PUBLISHED-TTL:PT1H
BEGIN:VTIMEZONE
TZID:Europe/Paris
BEGIN:DAYLIGHT
TZOFFSETFROM:+0100
TZOFFSETTO:+0200
TZNAME:CEST
DTSTART:20230326T010000
END:DAYLIGHT
BEGIN:STANDARD
TZOFFSETFROM:+0200
TZOFFSETTO:+0100
TZNAME:CET
DTSTART:20231029T010000
END:STANDARD
END:VTIMEZONE
BEGIN:VEVENT
DTSTART;TZID=Europe/Paris:20230504T120000
DTEND;TZID=Europe/Paris:20230504T170000
DTSTAMP:20260417T142501
CREATED:20230224T111620Z
LAST-MODIFIED:20230224T111652Z
UID:32844-1683201600-1683219600@www.thebrickcommunitystadium.com
SUMMARY:King's Coronation Afternoon Tea with Live Entertainment
DESCRIPTION:Join us to celebrate the King’s Coronation with Afternoon Tea at DW Stadium on Thursday 4th May. \nOur talented chefs have created a menu of sweet and savoury treats and James Norton will be performing live. \nThe event takes place from 12pm in the DW Fitness Lounge and you can purchase tickets online (selling fast!) \nBuy your tickets here
URL:https://www.thebrickcommunitystadium.com/event/kings-coronation-afternoon-tea-with-live-entertainment/
LOCATION:DW Stadium
END:VEVENT
BEGIN:VEVENT
DTSTART;TZID=Europe/Paris:20230531T090000
DTEND;TZID=Europe/Paris:20230531T170000
DTSTAMP:20260417T142501
CREATED:20230517T112340Z
LAST-MODIFIED:20230517T112340Z
UID:33000-1685523600-1685552400@www.thebrickcommunitystadium.com
SUMMARY:State of Origin - Game 1
DESCRIPTION:Join us for the State of Origin Series 2023 in Whelan’s Sports Bar!\n\n\nWe’ll be open from 9am for each event with live coverage across the screens from 10am.\n\n\nTickets include Full English Breakfast \n\nFor the first game\, on 31st May\, we’ll have Guest Speaker – Martin Offiah with us from Wigan Warriors.\n\n\n\n 31st May\, 21st June and 12th July from 9am
URL:https://www.thebrickcommunitystadium.com/event/state-of-origin-game-1/
LOCATION:Whelan’s Sports Bar\, DW Stadium\, Wigan\, WN5 0UH\, United Kingdom
END:VEVENT
END:VCALENDAR